BEGIN:VCALENDAR
VERSION:2.0
PRODID:-//Dorfverein Schletau e.V. - ECPv6.15.20//NONSGML v1.0//EN
CALSCALE:GREGORIAN
METHOD:PUBLISH
X-WR-CALNAME:Dorfverein Schletau e.V.
X-ORIGINAL-URL:https://schletau.de
X-WR-CALDESC:Veranstaltungen für Dorfverein Schletau e.V.
REFRESH-INTERVAL;VALUE=DURATION:PT1H
X-Robots-Tag:noindex
X-PUBLISHED-TTL:PT1H
BEGIN:VTIMEZONE
TZID:Europe/Berlin
BEGIN:DAYLIGHT
TZOFFSETFROM:+0100
TZOFFSETTO:+0200
TZNAME:CEST
DTSTART:20230326T010000
END:DAYLIGHT
BEGIN:STANDARD
TZOFFSETFROM:+0200
TZOFFSETTO:+0100
TZNAME:CET
DTSTART:20231029T010000
END:STANDARD
BEGIN:DAYLIGHT
TZOFFSETFROM:+0100
TZOFFSETTO:+0200
TZNAME:CEST
DTSTART:20240331T010000
END:DAYLIGHT
BEGIN:STANDARD
TZOFFSETFROM:+0200
TZOFFSETTO:+0100
TZNAME:CET
DTSTART:20241027T010000
END:STANDARD
BEGIN:DAYLIGHT
TZOFFSETFROM:+0100
TZOFFSETTO:+0200
TZNAME:CEST
DTSTART:20250330T010000
END:DAYLIGHT
BEGIN:STANDARD
TZOFFSETFROM:+0200
TZOFFSETTO:+0100
TZNAME:CET
DTSTART:20251026T010000
END:STANDARD
END:VTIMEZONE
BEGIN:VEVENT
DTSTART;TZID=Europe/Berlin:20240524T190000
DTEND;TZID=Europe/Berlin:20240524T195459
DTSTAMP:20260426T020717
CREATED:20240524T200016Z
LAST-MODIFIED:20240524T200016Z
UID:12-1716577200-1716580499@schletau.de
SUMMARY:Gründerversammlung Dorfverein Schletau e.V.
DESCRIPTION:Heute gründen wir unseren Dorfverein.
URL:https://schletau.de/event/gruenderversammlung-dorfverein-schletau-e-v/
LOCATION:Blockhaus Schletau\, Im Sandberg 16\, Schletau\, 29485
ORGANIZER;CN="Dorfverein Schletau e.V.":MAILTO:info@schletau.de
END:VEVENT
END:VCALENDAR