BEGIN:VCALENDAR
VERSION:2.0
PRODID:-//Dorfverein Schletau e.V. - ECPv6.15.20//NONSGML v1.0//EN
CALSCALE:GREGORIAN
METHOD:PUBLISH
X-ORIGINAL-URL:https://schletau.de
X-WR-CALDESC:Veranstaltungen für Dorfverein Schletau e.V.
REFRESH-INTERVAL;VALUE=DURATION:PT1H
X-Robots-Tag:noindex
X-PUBLISHED-TTL:PT1H
BEGIN:VTIMEZONE
TZID:Europe/Berlin
BEGIN:DAYLIGHT
TZOFFSETFROM:+0100
TZOFFSETTO:+0200
TZNAME:CEST
DTSTART:20240331T010000
END:DAYLIGHT
BEGIN:STANDARD
TZOFFSETFROM:+0200
TZOFFSETTO:+0100
TZNAME:CET
DTSTART:20241027T010000
END:STANDARD
BEGIN:DAYLIGHT
TZOFFSETFROM:+0100
TZOFFSETTO:+0200
TZNAME:CEST
DTSTART:20250330T010000
END:DAYLIGHT
BEGIN:STANDARD
TZOFFSETFROM:+0200
TZOFFSETTO:+0100
TZNAME:CET
DTSTART:20251026T010000
END:STANDARD
BEGIN:DAYLIGHT
TZOFFSETFROM:+0100
TZOFFSETTO:+0200
TZNAME:CEST
DTSTART:20260329T010000
END:DAYLIGHT
BEGIN:STANDARD
TZOFFSETFROM:+0200
TZOFFSETTO:+0100
TZNAME:CET
DTSTART:20261025T010000
END:STANDARD
END:VTIMEZONE
BEGIN:VEVENT
DTSTART;TZID=Europe/Berlin:20250419T180000
DTEND;TZID=Europe/Berlin:20250419T180000
DTSTAMP:20260421T114918
CREATED:20250301T071359Z
LAST-MODIFIED:20250415T105754Z
UID:920-1745085600-1745085600@schletau.de
SUMMARY:Osterfeuer
DESCRIPTION:Am 19. April 2025 laden wir euch herzlich zum traditionellen Osterfeuer in Schletau ein! \nFreitag\, ab 13:30Uhr fahren wir die Buschreste von den Wegrändern ab und holen anschließend den Osterbaum. \nSamstag ab 13Uhr findet das gemeinsame binden vom Osterbaum statt. \nAb Einbruch der Dunkelheit wird dann das Feuer entzündet. Für das leibliche Wohl ist gesorgt: Speisen und Getränke gibt es vor Ort für einen schmalen Taler. Kommt vorbei und genießt einen schönen Abend mit Familie und Freunden! \nWir freuen uns auf euch! \n  \nWER NOCH BUSCHRESTE HAT\, GERNE AM FREITAG ODER SAMSTAG ZUM OSTERBERG BRINGEN!
URL:https://schletau.de/event/osterfeuer/
LOCATION:Osterfeuerplatz Schletau
ORGANIZER;CN="Dorfverein Schletau e.V.":MAILTO:info@schletau.de
END:VEVENT
END:VCALENDAR