BEGIN:VCALENDAR
VERSION:2.0
PRODID:-//Dorfverein Schletau e.V. - ECPv6.15.20//NONSGML v1.0//EN
CALSCALE:GREGORIAN
METHOD:PUBLISH
X-WR-CALNAME:Dorfverein Schletau e.V.
X-ORIGINAL-URL:https://schletau.de
X-WR-CALDESC:Veranstaltungen für Dorfverein Schletau e.V.
REFRESH-INTERVAL;VALUE=DURATION:PT1H
X-Robots-Tag:noindex
X-PUBLISHED-TTL:PT1H
BEGIN:VTIMEZONE
TZID:Europe/Berlin
BEGIN:DAYLIGHT
TZOFFSETFROM:+0100
TZOFFSETTO:+0200
TZNAME:CEST
DTSTART:20240331T010000
END:DAYLIGHT
BEGIN:STANDARD
TZOFFSETFROM:+0200
TZOFFSETTO:+0100
TZNAME:CET
DTSTART:20241027T010000
END:STANDARD
BEGIN:DAYLIGHT
TZOFFSETFROM:+0100
TZOFFSETTO:+0200
TZNAME:CEST
DTSTART:20250330T010000
END:DAYLIGHT
BEGIN:STANDARD
TZOFFSETFROM:+0200
TZOFFSETTO:+0100
TZNAME:CET
DTSTART:20251026T010000
END:STANDARD
BEGIN:DAYLIGHT
TZOFFSETFROM:+0100
TZOFFSETTO:+0200
TZNAME:CEST
DTSTART:20260329T010000
END:DAYLIGHT
BEGIN:STANDARD
TZOFFSETFROM:+0200
TZOFFSETTO:+0100
TZNAME:CET
DTSTART:20261025T010000
END:STANDARD
END:VTIMEZONE
BEGIN:VEVENT
DTSTART;TZID=Europe/Berlin:20250426T000000
DTEND;TZID=Europe/Berlin:20250426T235959
DTSTAMP:20260421T114703
CREATED:20250202T211125Z
LAST-MODIFIED:20250202T211125Z
UID:877-1745625600-1745711999@schletau.de
SUMMARY:Schützenverein Schletau- Königsschießen
DESCRIPTION:Interne Veranstaltung für Mitglieder des Schützenverein Schletau eV
URL:https://schletau.de/event/schuetzenverein-schletau-koenigsschiessen/
LOCATION:Blockhaus Schletau\, Im Sandberg 16\, Schletau\, 29485
END:VEVENT
BEGIN:VEVENT
DTSTART;TZID=Europe/Berlin:20250426T143000
DTEND;TZID=Europe/Berlin:20250426T143000
DTSTAMP:20260421T114703
CREATED:20250426T094814Z
LAST-MODIFIED:20250426T095605Z
UID:988-1745677800-1745677800@schletau.de
SUMMARY:ZUMBELLAS live
DESCRIPTION:Die ZUMBA Gruppe die ‚ZUMBELLAS‘ sind heute live auf dem Marktplatz in Wustrow zu sehen\, zum Auftakt des Friedenslaufs tanzen sie und leiten das Aufwärmen für die Läufe an.
URL:https://schletau.de/event/zumbellas-live/
LOCATION:Marktplatz Wustrow
END:VEVENT
END:VCALENDAR