BEGIN:VCALENDAR
VERSION:2.0
PRODID:-//Dorfverein Schletau e.V. - ECPv6.15.20//NONSGML v1.0//EN
CALSCALE:GREGORIAN
METHOD:PUBLISH
X-WR-CALNAME:Dorfverein Schletau e.V.
X-ORIGINAL-URL:https://schletau.de
X-WR-CALDESC:Veranstaltungen für Dorfverein Schletau e.V.
REFRESH-INTERVAL;VALUE=DURATION:PT1H
X-Robots-Tag:noindex
X-PUBLISHED-TTL:PT1H
BEGIN:VTIMEZONE
TZID:Europe/Berlin
BEGIN:DAYLIGHT
TZOFFSETFROM:+0100
TZOFFSETTO:+0200
TZNAME:CEST
DTSTART:20240331T010000
END:DAYLIGHT
BEGIN:STANDARD
TZOFFSETFROM:+0200
TZOFFSETTO:+0100
TZNAME:CET
DTSTART:20241027T010000
END:STANDARD
BEGIN:DAYLIGHT
TZOFFSETFROM:+0100
TZOFFSETTO:+0200
TZNAME:CEST
DTSTART:20250330T010000
END:DAYLIGHT
BEGIN:STANDARD
TZOFFSETFROM:+0200
TZOFFSETTO:+0100
TZNAME:CET
DTSTART:20251026T010000
END:STANDARD
BEGIN:DAYLIGHT
TZOFFSETFROM:+0100
TZOFFSETTO:+0200
TZNAME:CEST
DTSTART:20260329T010000
END:DAYLIGHT
BEGIN:STANDARD
TZOFFSETFROM:+0200
TZOFFSETTO:+0100
TZNAME:CET
DTSTART:20261025T010000
END:STANDARD
END:VTIMEZONE
BEGIN:VEVENT
DTSTART;TZID=Europe/Berlin:20250831T000000
DTEND;TZID=Europe/Berlin:20250831T235959
DTSTAMP:20260421T114738
CREATED:20250126T134211Z
LAST-MODIFIED:20250126T134211Z
UID:752-1756598400-1756684799@schletau.de
SUMMARY:FF Lemgow - Kreis-Wettkampf
DESCRIPTION:
URL:https://schletau.de/event/ff-lemgow-kreis-wettkampf/
LOCATION:Damnatz
END:VEVENT
END:VCALENDAR