BEGIN:VCALENDAR
VERSION:2.0
PRODID:-//Dorfverein Schletau e.V. - ECPv6.15.20//NONSGML v1.0//EN
CALSCALE:GREGORIAN
METHOD:PUBLISH
X-ORIGINAL-URL:https://schletau.de
X-WR-CALDESC:Veranstaltungen für Dorfverein Schletau e.V.
REFRESH-INTERVAL;VALUE=DURATION:PT1H
X-Robots-Tag:noindex
X-PUBLISHED-TTL:PT1H
BEGIN:VTIMEZONE
TZID:Europe/Berlin
BEGIN:DAYLIGHT
TZOFFSETFROM:+0100
TZOFFSETTO:+0200
TZNAME:CEST
DTSTART:20240331T010000
END:DAYLIGHT
BEGIN:STANDARD
TZOFFSETFROM:+0200
TZOFFSETTO:+0100
TZNAME:CET
DTSTART:20241027T010000
END:STANDARD
BEGIN:DAYLIGHT
TZOFFSETFROM:+0100
TZOFFSETTO:+0200
TZNAME:CEST
DTSTART:20250330T010000
END:DAYLIGHT
BEGIN:STANDARD
TZOFFSETFROM:+0200
TZOFFSETTO:+0100
TZNAME:CET
DTSTART:20251026T010000
END:STANDARD
BEGIN:DAYLIGHT
TZOFFSETFROM:+0100
TZOFFSETTO:+0200
TZNAME:CEST
DTSTART:20260329T010000
END:DAYLIGHT
BEGIN:STANDARD
TZOFFSETFROM:+0200
TZOFFSETTO:+0100
TZNAME:CET
DTSTART:20261025T010000
END:STANDARD
END:VTIMEZONE
BEGIN:VEVENT
DTSTART;TZID=Europe/Berlin:20250111T170000
DTEND;TZID=Europe/Berlin:20250111T170000
DTSTAMP:20260425T125445
CREATED:20241227T173033Z
LAST-MODIFIED:20250109T184721Z
UID:310-1736614800-1736614800@schletau.de
SUMMARY:Weihnachtsbaumbrennen
DESCRIPTION:Die Jugendfeuerwehr der FF Lemgow macht heute ihr alljährliches Weihnachtsbaumfeuer. \nAm Samstag\, den 11.01.2025 ab 12 Uhr werden die Weihnachtsbäume eingesammelt. Alle nach draußen gestellten Bäume werden eingesammelt. \nDie Jugendfeuerwehr würde sich dabei über eine Spende sehr freuen. \nIm Anschluss wird am Osterfeuerplatz in Großwitzeetze das Feuer angesteckt. \nFür das leibliche Wohl zu kleinen Preisen wird gesorgt (Getränke\, Bratwurst\, etc.). \n 
URL:https://schletau.de/event/weihnachtsbaumbrennen/
LOCATION:Osterfeuerplatz Großwitzeetze
END:VEVENT
BEGIN:VEVENT
DTSTART;TZID=Europe/Berlin:20250122T000000
DTEND;TZID=Europe/Berlin:20250122T235959
DTSTAMP:20260425T125445
CREATED:20250122T224132Z
LAST-MODIFIED:20250122T224132Z
UID:656-1737504000-1737590399@schletau.de
SUMMARY:Fastnacht Schweskau
DESCRIPTION:
URL:https://schletau.de/event/fastnacht-schweskau/
END:VEVENT
BEGIN:VEVENT
DTSTART;TZID=Europe/Berlin:20250125T000000
DTEND;TZID=Europe/Berlin:20250125T235959
DTSTAMP:20260425T125445
CREATED:20250122T224459Z
LAST-MODIFIED:20250202T212022Z
UID:707-1737763200-1737849599@schletau.de
SUMMARY:Schützenverein Schletau Jahreshauptversammlung
DESCRIPTION:Interne Veranstaltung für Mitglieder des Schützenverein Schletau eV
URL:https://schletau.de/event/schuetzenverein-schletau-jahreshauptversammlung/
LOCATION:Blockhaus Schletau\, Im Sandberg 16\, Schletau\, 29485
END:VEVENT
BEGIN:VEVENT
DTSTART;TZID=Europe/Berlin:20250131T194000
DTEND;TZID=Europe/Berlin:20250131T220000
DTSTAMP:20260425T125445
CREATED:20250126T135030Z
LAST-MODIFIED:20250126T135424Z
UID:759-1738352400-1738360800@schletau.de
SUMMARY:Frauengeflüster in Simander
DESCRIPTION:Wir veranstalten für Frauen in und um Simander 1 mal im Monat unser ‚Frauengeflüster‘. Zeit und Raum für Austausch und nettes Beisammensein. \nVeranstaltungsort und Zeit variieren jeden Monat. \nGetränke bitte selbst mitbringen. \nKontakt für interessierte Frauen: \nJudith Koenig (0174 909 3407) und Cornelia Niehus (05883 3989 996) oder über simandermalanders@gmail.com.
URL:https://schletau.de/event/frauengefluester-in-simander/
LOCATION:Schützenhaus Simander\, Am Röthen 99\, Simander\, 29485
END:VEVENT
END:VCALENDAR